BEGIN:VCALENDAR
VERSION:2.0
PRODID:-//Tr&#039;ondëk Hwëch&#039;in Government - ECPv6.15.20//NONSGML v1.0//EN
CALSCALE:GREGORIAN
METHOD:PUBLISH
X-WR-CALNAME:Tr&#039;ondëk Hwëch&#039;in Government
X-ORIGINAL-URL:https://www.trondek.ca
X-WR-CALDESC:Events for Tr&#039;ondëk Hwëch&#039;in Government
REFRESH-INTERVAL;VALUE=DURATION:PT1H
X-Robots-Tag:noindex
X-PUBLISHED-TTL:PT1H
BEGIN:VTIMEZONE
TZID:America/Whitehorse
BEGIN:STANDARD
TZOFFSETFROM:-0700
TZOFFSETTO:-0700
TZNAME:MST
DTSTART:20230101T000000
END:STANDARD
END:VTIMEZONE
BEGIN:VEVENT
DTSTART;TZID=America/Whitehorse:20240821T170000
DTEND;TZID=America/Whitehorse:20240821T210000
DTSTAMP:20260420T005805
CREATED:20240815T181502Z
LAST-MODIFIED:20260206T075419Z
UID:5905-1724259600-1724274000@www.trondek.ca
SUMMARY:Citizen Housing Consultation
DESCRIPTION:All Citizens are invited to attend a consultation meeting addressing a new draft Tr’ondëk Hwëch’in Rental Housing Policy on Wednesday\, August 21 at Äłät Nëhëjël (TH Hall). \nItems on the agenda include: \nA discussion on the draft rental policy and steps to approval.\nInclusion of Tr’ëhudè values.\nCost of housing program and revenues.\nFuture rental rate changes. \nDoors open at 5pm and dinner will commence the evening at 5:30pm. View the full agenda here.  \nFor those who cannot attend in-person but would like to participate\, you can do so via Zoom. Please use the following link: \nhttps://us06web.zoom.us/j/81392521188 \nMeeting ID: 813 9252 1188 \nThe draft policy is also available to access here: \nhttps://www.trondek.ca/wp-content/uploads/2024/08/TH-Rental-Housing-Policy-July-2024-DRAFT-1.pdf
URL:https://www.trondek.ca/event/citizen-housing-consultation/
LOCATION:Äłät Nëhëjël\, 1242 Front Street\, Dawson City\, YT\, Y0B1G0\, Canada
CATEGORIES:Dawson Office
ATTACH;FMTTYPE=image/png:https://www.trondek.ca/wp-content/uploads/2024/08/Citizen-Consultation-On-the-Trondek-Hwechin-Rental-Housing-Policy.png
END:VEVENT
END:VCALENDAR