BEGIN:VCALENDAR
VERSION:2.0
PRODID:-//Tr&#039;ondëk Hwëch&#039;in Government - ECPv6.15.20//NONSGML v1.0//EN
CALSCALE:GREGORIAN
METHOD:PUBLISH
X-WR-CALNAME:Tr&#039;ondëk Hwëch&#039;in Government
X-ORIGINAL-URL:https://www.trondek.ca
X-WR-CALDESC:Events for Tr&#039;ondëk Hwëch&#039;in Government
REFRESH-INTERVAL;VALUE=DURATION:PT1H
X-Robots-Tag:noindex
X-PUBLISHED-TTL:PT1H
BEGIN:VTIMEZONE
TZID:America/Whitehorse
BEGIN:STANDARD
TZOFFSETFROM:-0700
TZOFFSETTO:-0700
TZNAME:MST
DTSTART:20240101T000000
END:STANDARD
END:VTIMEZONE
BEGIN:VEVENT
DTSTART;TZID=America/Whitehorse:20250416T173000
DTEND;TZID=America/Whitehorse:20250416T193000
DTSTAMP:20260423T123523
CREATED:20250402T232104Z
LAST-MODIFIED:20260206T075346Z
UID:7402-1744824600-1744831800@www.trondek.ca
SUMMARY:Community Health Talk: Chronic Diseases Overview
DESCRIPTION:How does chronic disease affect us? What supports are available for those with chronic disease? \n\n\nJoin our Community Health Talk at the Chief John Jonas Centre to learn more.\n\n\nWe will meet Wednesday\, April 16 between 5:30 pm and 7:30 pm.\n\n\n \n\n\nBring your knowledge\, lived experiences and questions for an interactive discussion.\n\n\nEveryone is welcome and healthy snacks will be provided.\n\n\n \n\n\nFor more information\, contact: community.health@trondek.ca\n\n\nor call (867) 993-4764
URL:https://www.trondek.ca/event/community-health-talk-chronic-diseases-overview/
LOCATION:Chief John Jonas Centre\, 1233 Second Avenue\, Dawson City\, Yukon\, Y0B1G0\, Canada
CATEGORIES:Dawson Office
ATTACH;FMTTYPE=image/png:https://www.trondek.ca/wp-content/uploads/2025/04/communityhealthFB4.png
END:VEVENT
END:VCALENDAR