BEGIN:VCALENDAR
VERSION:2.0
PRODID:-//Tr&#039;ondëk Hwëch&#039;in Government - ECPv6.15.20//NONSGML v1.0//EN
CALSCALE:GREGORIAN
METHOD:PUBLISH
X-WR-CALNAME:Tr&#039;ondëk Hwëch&#039;in Government
X-ORIGINAL-URL:https://www.trondek.ca
X-WR-CALDESC:Events for Tr&#039;ondëk Hwëch&#039;in Government
REFRESH-INTERVAL;VALUE=DURATION:PT1H
X-Robots-Tag:noindex
X-PUBLISHED-TTL:PT1H
BEGIN:VTIMEZONE
TZID:America/Whitehorse
BEGIN:STANDARD
TZOFFSETFROM:-0700
TZOFFSETTO:-0700
TZNAME:MST
DTSTART:20240101T000000
END:STANDARD
END:VTIMEZONE
BEGIN:VEVENT
DTSTART;TZID=America/Whitehorse:20250409T173000
DTEND;TZID=America/Whitehorse:20250409T193000
DTSTAMP:20260421T032342
CREATED:20250402T230548Z
LAST-MODIFIED:20260206T075347Z
UID:7399-1744219800-1744227000@www.trondek.ca
SUMMARY:Community Health Talk: Maintaining a Healthy Heart
DESCRIPTION:There will be a Community Health Talk on Wednesday\, April 9\, from 5:30 pm – 7:30 pm.\n\n\nFor the first Community Health Talk in April\, we will continue with our theme of Maintaining a Healthy Heart 🫀\n\n\nWe will discuss blood pressure control and how to minimize the risk of strokes. \n\n\nThis will be an interactive discussion for knowledge sharing and questions.\n\n\n \n\n\nEveryone is welcome!\n\n\nHealthy snacks will be provided.\n\n\n \n\n\nFor more information\, contact: community.health@trondek.ca\n\n\nor call (867) 993-4764
URL:https://www.trondek.ca/event/community-health-talk-maintaining-a-healthy-heart/
LOCATION:Chief John Jonas Centre\, 1233 Second Avenue\, Dawson City\, Yukon\, Y0B1G0\, Canada
CATEGORIES:Dawson Office
ATTACH;FMTTYPE=image/png:https://www.trondek.ca/wp-content/uploads/2025/04/CommunityhealthFB2.png
END:VEVENT
END:VCALENDAR