BEGIN:VCALENDAR
VERSION:2.0
PRODID:-//Tr&#039;ondëk Hwëch&#039;in Government - ECPv6.15.20//NONSGML v1.0//EN
CALSCALE:GREGORIAN
METHOD:PUBLISH
X-WR-CALNAME:Tr&#039;ondëk Hwëch&#039;in Government
X-ORIGINAL-URL:https://www.trondek.ca
X-WR-CALDESC:Events for Tr&#039;ondëk Hwëch&#039;in Government
REFRESH-INTERVAL;VALUE=DURATION:PT1H
X-Robots-Tag:noindex
X-PUBLISHED-TTL:PT1H
BEGIN:VTIMEZONE
TZID:America/Whitehorse
BEGIN:STANDARD
TZOFFSETFROM:-0700
TZOFFSETTO:-0700
TZNAME:MST
DTSTART:20250101T000000
END:STANDARD
END:VTIMEZONE
BEGIN:VEVENT
DTSTART;VALUE=DATE:20260128
DTEND;VALUE=DATE:20260130
DTSTAMP:20260422T003347
CREATED:20260115T041412Z
LAST-MODIFIED:20260206T075312Z
UID:10068-1769558400-1769731199@www.trondek.ca
SUMMARY:Community Safety Planning Initiative Session
DESCRIPTION:The Community Safety Planning Initiative will host meetings on Wednesday\, January 28\, and Thursday\, January 29\, from 9:30 a.m. to 3:30 p.m. at the TH Hall. Tr’ondëk Hwëch’in Citizens\, along with internal and external partners\, are invited to attend and participate. These sessions will serve as the third and final community engagement meetings\, focused on developing a comprehensive workplan to proactively implement community safety measures. \nDiscussions will centre on key priority areas\, including substance misuse and mental health\, housing\, community supports and traditional values\, and food security. The workplan will aim to support safety and wellbeing by keeping TH Citizens within their traditional territory\, expanding diversion opportunities\, and strengthening proactive\, community and family-based programming. \nParticipants will also receive updates on the positive impacts of the new outreach program. A virtual meeting may be held prior to the final session to review outcomes from the first two engagement sessions. Community members are encouraged to attend\, invite others\, and take part—games and prizes will be available. \nFor more information please contact justice.director@trondek.ca
URL:https://www.trondek.ca/event/community-safety-planning-initiative-session/
LOCATION:Äłät Nëhëjël\, 1242 Front Street\, Dawson City\, YT\, Y0B1G0\, Canada
CATEGORIES:Dawson Office
ATTACH;FMTTYPE=image/png:https://www.trondek.ca/wp-content/uploads/2026/01/Community-Safety-Celebration_v3.png
END:VEVENT
END:VCALENDAR