BEGIN:VCALENDAR
VERSION:2.0
PRODID:-//Tr&#039;ondëk Hwëch&#039;in Government - ECPv6.15.20//NONSGML v1.0//EN
CALSCALE:GREGORIAN
METHOD:PUBLISH
X-WR-CALNAME:Tr&#039;ondëk Hwëch&#039;in Government
X-ORIGINAL-URL:https://www.trondek.ca
X-WR-CALDESC:Events for Tr&#039;ondëk Hwëch&#039;in Government
REFRESH-INTERVAL;VALUE=DURATION:PT1H
X-Robots-Tag:noindex
X-PUBLISHED-TTL:PT1H
BEGIN:VTIMEZONE
TZID:America/Whitehorse
BEGIN:STANDARD
TZOFFSETFROM:-0700
TZOFFSETTO:-0700
TZNAME:MST
DTSTART:20240101T000000
END:STANDARD
END:VTIMEZONE
BEGIN:VEVENT
DTSTART;TZID=America/Whitehorse:20250319T130000
DTEND;TZID=America/Whitehorse:20250319T160000
DTSTAMP:20260421T065823
CREATED:20250305T210437Z
LAST-MODIFIED:20260206T075349Z
UID:7231-1742389200-1742400000@www.trondek.ca
SUMMARY:Crochet for Beginners
DESCRIPTION:Learn to crochet at Dänojà Zho Cultural Centre ! \nThis Crochet Workshop for Beginners will give participants a good understanding of the basics.\nWednesday\, March 19.\n1:00 pm – 4:00 pm.\nMaterials are provided.\n\n\n\nThis workshop has a maximum capacity of 5 participants.\nTo register\, email cassidy.everitt@trondek.ca\nor call (867) 993-7100 ext. 500
URL:https://www.trondek.ca/event/crochet-for-beginners/
LOCATION:Dänojà Zho Cultural Centre\, 1131 Front St\, Dawson City\, YT\, Y0B 1G0\, Canada
CATEGORIES:Dawson Office
ATTACH;FMTTYPE=image/png:https://www.trondek.ca/wp-content/uploads/2025/03/Crochet-Workshopfacebook.png
END:VEVENT
END:VCALENDAR