BEGIN:VCALENDAR
VERSION:2.0
PRODID:-//Tr&#039;ondëk Hwëch&#039;in Government - ECPv6.15.20//NONSGML v1.0//EN
CALSCALE:GREGORIAN
METHOD:PUBLISH
X-WR-CALNAME:Tr&#039;ondëk Hwëch&#039;in Government
X-ORIGINAL-URL:https://www.trondek.ca
X-WR-CALDESC:Events for Tr&#039;ondëk Hwëch&#039;in Government
REFRESH-INTERVAL;VALUE=DURATION:PT1H
X-Robots-Tag:noindex
X-PUBLISHED-TTL:PT1H
BEGIN:VTIMEZONE
TZID:America/Whitehorse
BEGIN:STANDARD
TZOFFSETFROM:-0700
TZOFFSETTO:-0700
TZNAME:MST
DTSTART:20240101T000000
END:STANDARD
END:VTIMEZONE
BEGIN:VEVENT
DTSTART;TZID=America/Whitehorse:20250415T160000
DTEND;TZID=America/Whitehorse:20250415T170000
DTSTAMP:20260420T012144
CREATED:20250401T220957Z
LAST-MODIFIED:20260206T075346Z
UID:7372-1744732800-1744736400@www.trondek.ca
SUMMARY:Elders Complex Tour
DESCRIPTION:Wildstone Construction Inc. is inviting Elders to come see the progress on the construction of the new Elders Complex!\nJoin us Tuesday\, April 15 for a sneak peak at how things are coming along.\nWe will meet at 4:00 pm at 1217 Third Avenue.\n\n\nFor more information\, contact:\nlouise.blanchard@trondek.ca\nor call (867) 993-4782
URL:https://www.trondek.ca/event/elders-complex-tour/
LOCATION:1217 3rd Avenue\, Dawson City\, YT\, Canada
CATEGORIES:Dawson Office
ATTACH;FMTTYPE=image/png:https://www.trondek.ca/wp-content/uploads/2025/04/Tour-the-new-elders-complex.png
END:VEVENT
END:VCALENDAR