BEGIN:VCALENDAR
VERSION:2.0
PRODID:-//Tr&#039;ondëk Hwëch&#039;in Government - ECPv6.15.20//NONSGML v1.0//EN
CALSCALE:GREGORIAN
METHOD:PUBLISH
X-WR-CALNAME:Tr&#039;ondëk Hwëch&#039;in Government
X-ORIGINAL-URL:https://www.trondek.ca
X-WR-CALDESC:Events for Tr&#039;ondëk Hwëch&#039;in Government
REFRESH-INTERVAL;VALUE=DURATION:PT1H
X-Robots-Tag:noindex
X-PUBLISHED-TTL:PT1H
BEGIN:VTIMEZONE
TZID:America/Whitehorse
BEGIN:STANDARD
TZOFFSETFROM:-0700
TZOFFSETTO:-0700
TZNAME:MST
DTSTART:20240101T000000
END:STANDARD
END:VTIMEZONE
BEGIN:VEVENT
DTSTART;TZID=America/Whitehorse:20250305T173000
DTEND;TZID=America/Whitehorse:20250305T203000
DTSTAMP:20260420T053223
CREATED:20250219T202715Z
LAST-MODIFIED:20260206T075349Z
UID:7154-1741195800-1741206600@www.trondek.ca
SUMMARY:Elders Health Talk: Chronic & Lifelong Diseases
DESCRIPTION:Elders Health Talk at the Chief John Jonas Centre \nJoin us for interactive discussions and knowledge sharing on chronic and lifelong diseases. \nWednesday\, March 5 \n5:30 pm – 7:30 pm \nWe will be discussing diseases such as: diabetes\, chronic kidney disease\, alzheimer’s disease\, heart disease and stroke. \nHealthy snacks will be provided. \nFor more information email community.health@trondek.ca \nOr call 993 – 7100 ext. 164
URL:https://www.trondek.ca/event/elders-health-talk-chronic-lifelong-diseases/
LOCATION:Chief John Jonas Centre\, 1233 Second Avenue\, Dawson City\, Yukon\, Y0B1G0\, Canada
CATEGORIES:Dawson Office
ATTACH;FMTTYPE=image/png:https://www.trondek.ca/wp-content/uploads/2025/02/Chronic-Diseases-Elders-Talk-Facebook-Post.png
END:VEVENT
END:VCALENDAR