BEGIN:VCALENDAR
VERSION:2.0
PRODID:-//Tr&#039;ondëk Hwëch&#039;in Government - ECPv6.15.20//NONSGML v1.0//EN
CALSCALE:GREGORIAN
METHOD:PUBLISH
X-WR-CALNAME:Tr&#039;ondëk Hwëch&#039;in Government
X-ORIGINAL-URL:https://www.trondek.ca
X-WR-CALDESC:Events for Tr&#039;ondëk Hwëch&#039;in Government
REFRESH-INTERVAL;VALUE=DURATION:PT1H
X-Robots-Tag:noindex
X-PUBLISHED-TTL:PT1H
BEGIN:VTIMEZONE
TZID:America/Whitehorse
BEGIN:STANDARD
TZOFFSETFROM:-0700
TZOFFSETTO:-0700
TZNAME:MST
DTSTART:20250101T000000
END:STANDARD
END:VTIMEZONE
BEGIN:VEVENT
DTSTART;TZID=America/Whitehorse:20260429T090000
DTEND;TZID=America/Whitehorse:20260429T163000
DTSTAMP:20260425T064522
CREATED:20260424T203545Z
LAST-MODIFIED:20260424T203545Z
UID:10569-1777453200-1777480200@www.trondek.ca
SUMMARY:Nëtąy ts’ą̈\, honch’in (Trail to Where you Are)
DESCRIPTION:Attention Whitehorse Citizens!\nMark your calendars for Nëtąy ts’ą̈\, honch’in (Trail to Where you Are)\n\n\nOur support team will be available at the TH Whitehorse office on Wednesday\, April 29 between 9:00 am – 4:30 pm.\n\n\nIf you are interested in scheduling an appointment with our support team\, please call or text (867) 993-3697 to book a time to meet.\n\n\nHǫzǫ kä̀nä̀cha (Take care)
URL:https://www.trondek.ca/event/netay-tsa%cc%88-honchin-trail-to-where-you-are/
LOCATION:Whitehorse Office\, 101-1191 Front Street\, Whitehorse\, Yukon\, Y1A0K5\, Canada
CATEGORIES:Whitehorse Office
ATTACH;FMTTYPE=image/png:https://www.trondek.ca/wp-content/uploads/2026/04/Trail-to-Where-you-Are-1.png
END:VEVENT
END:VCALENDAR