BEGIN:VCALENDAR
VERSION:2.0
PRODID:-//Tr&#039;ondëk Hwëch&#039;in Government - ECPv6.15.20//NONSGML v1.0//EN
CALSCALE:GREGORIAN
METHOD:PUBLISH
X-WR-CALNAME:Tr&#039;ondëk Hwëch&#039;in Government
X-ORIGINAL-URL:https://www.trondek.ca
X-WR-CALDESC:Events for Tr&#039;ondëk Hwëch&#039;in Government
REFRESH-INTERVAL;VALUE=DURATION:PT1H
X-Robots-Tag:noindex
X-PUBLISHED-TTL:PT1H
BEGIN:VTIMEZONE
TZID:America/Whitehorse
BEGIN:STANDARD
TZOFFSETFROM:-0700
TZOFFSETTO:-0700
TZNAME:MST
DTSTART:20230101T000000
END:STANDARD
END:VTIMEZONE
BEGIN:VEVENT
DTSTART;TZID=America/Whitehorse:20240723T110000
DTEND;TZID=America/Whitehorse:20240723T130000
DTSTAMP:20260423T173608
CREATED:20240715T233904Z
LAST-MODIFIED:20260206T075420Z
UID:4984-1721732400-1721739600@www.trondek.ca
SUMMARY:Taco Tuesdays in Whitehorse
DESCRIPTION:Taco Tuesday & Door Prizes \nTuesday\, July 23 at 11 am –1 pm \nJoin us for lunch at the Whitehorse Office for tacos and refreshments \nTaxi vouchers available to office and rides from our Elders Support Worker back to home. \nPhone: 867-993-4733 \nEmail: whitehorse.support@trondek.ca
URL:https://www.trondek.ca/event/taco-tuesdays-in-whitehorse/
LOCATION:Whitehorse Office\, 101-1191 Front Street\, Whitehorse\, Yukon\, Y1A0K5\, Canada
CATEGORIES:Dawson Office
ATTACH;FMTTYPE=image/png:https://www.trondek.ca/wp-content/uploads/2024/07/Taco-Tuesdays-1.png
END:VEVENT
END:VCALENDAR