BEGIN:VCALENDAR
VERSION:2.0
PRODID:-//Tr&#039;ondëk Hwëch&#039;in Government - ECPv6.15.20//NONSGML v1.0//EN
CALSCALE:GREGORIAN
METHOD:PUBLISH
X-WR-CALNAME:Tr&#039;ondëk Hwëch&#039;in Government
X-ORIGINAL-URL:https://www.trondek.ca
X-WR-CALDESC:Events for Tr&#039;ondëk Hwëch&#039;in Government
REFRESH-INTERVAL;VALUE=DURATION:PT1H
X-Robots-Tag:noindex
X-PUBLISHED-TTL:PT1H
BEGIN:VTIMEZONE
TZID:America/Whitehorse
BEGIN:STANDARD
TZOFFSETFROM:-0700
TZOFFSETTO:-0700
TZNAME:MST
DTSTART:20250101T000000
END:STANDARD
END:VTIMEZONE
BEGIN:VEVENT
DTSTART;TZID=America/Whitehorse:20260123T130000
DTEND;TZID=America/Whitehorse:20260123T160000
DTSTAMP:20260422T002945
CREATED:20260116T224419Z
LAST-MODIFIED:20260206T075312Z
UID:10087-1769173200-1769184000@www.trondek.ca
SUMMARY:Traditional Dog Blanket Group Project
DESCRIPTION:Traditional Dog Blanket Group Project Experienced sewers wanted for a learning opportunity!.The Tr’ondëk Hwëch’in Heritage Department is inviting experienced sewers to take part in a Traditional Dog Blanket Group Project\, focused on making traditional rose appliqués. This will take place over several afternoon sessions in January and Februarystarting January 23 from 1–4 p.m at the Dänöja Zho Cultural Centre..If you are an experienced sewer and would like to participate\, please enquire or register by January 19\, 2026. Contact:(867) 993-7100 ext. 500 danojazho@trondek.ca
URL:https://www.trondek.ca/event/traditional-dog-blanket-group-project/
LOCATION:Dänojà Zho Cultural Centre\, 1131 Front St\, Dawson City\, YT\, Y0B 1G0\, Canada
CATEGORIES:Dawson Office
ATTACH;FMTTYPE=image/jpeg:https://www.trondek.ca/wp-content/uploads/2026/01/611603543_1177584981232354_960711461112085983_n.jpg
END:VEVENT
END:VCALENDAR