BEGIN:VCALENDAR
VERSION:2.0
PRODID:-//Tr&#039;ondëk Hwëch&#039;in Government - ECPv6.15.20//NONSGML v1.0//EN
CALSCALE:GREGORIAN
METHOD:PUBLISH
X-WR-CALNAME:Tr&#039;ondëk Hwëch&#039;in Government
X-ORIGINAL-URL:https://www.trondek.ca
X-WR-CALDESC:Events for Tr&#039;ondëk Hwëch&#039;in Government
REFRESH-INTERVAL;VALUE=DURATION:PT1H
X-Robots-Tag:noindex
X-PUBLISHED-TTL:PT1H
BEGIN:VTIMEZONE
TZID:America/Whitehorse
BEGIN:STANDARD
TZOFFSETFROM:-0700
TZOFFSETTO:-0700
TZNAME:MST
DTSTART:20250101T000000
END:STANDARD
END:VTIMEZONE
BEGIN:VEVENT
DTSTART;TZID=America/Whitehorse:20260121T173000
DTEND;TZID=America/Whitehorse:20260121T193000
DTSTAMP:20260422T003843
CREATED:20260115T184930Z
LAST-MODIFIED:20260206T075312Z
UID:10074-1769016600-1769023800@www.trondek.ca
SUMMARY:Tr’ondëk Hwëch’in Court Engagement Session
DESCRIPTION:📜Join us for a Tr’ondëk Hwëch’in Court Engagement Session hosted by our Implementation team.\n.\n📜We’re seeking guidance from Tr’ondëk Hwëch’in citizens on Dënezhu ways of creating and operating a TH Court\, including how it should function\, what it should look and feel like\, and the approaches and values that should guide its work. The session will take place on Wednesday\, January 21\, from 5:30pm to 7:30pm at Ätät Nëhejël.\n.\n🎉Dinner is included plus every attendee will receive a $50 Bonanza Market or Independent gift card with a grand prize Air North Gift Certificate is up for grabs!\n.\nVirtual attendance is possible. Listen in and contribute via the Zoom Link below.\nTopic: Courts Engagement\nTime: Jan 21\, 2026 05:30 PM Yukon\nJoin Zoom Meeting\nhttps://us06web.zoom.us/j/88590955017?pwd=Jh2UZDdxRajrhaFx7wRy4gEKjV2aZ7.1\nMeeting ID: 885 9095 5017\nPasscode: 997907
URL:https://www.trondek.ca/event/trondek-hwechin-court-engagement-session/
LOCATION:Äłät Nëhëjël\, 1242 Front Street\, Dawson City\, YT\, Y0B1G0\, Canada
CATEGORIES:Dawson Office
ATTACH;FMTTYPE=image/png:https://www.trondek.ca/wp-content/uploads/2026/01/Trʼondek-Hwechʼin-Court-Session-Facebook-Post-1.png
END:VEVENT
END:VCALENDAR