BEGIN:VCALENDAR
VERSION:2.0
PRODID:-//Tr&#039;ondëk Hwëch&#039;in Government - ECPv6.15.20//NONSGML v1.0//EN
CALSCALE:GREGORIAN
METHOD:PUBLISH
X-WR-CALNAME:Tr&#039;ondëk Hwëch&#039;in Government
X-ORIGINAL-URL:https://www.trondek.ca
X-WR-CALDESC:Events for Tr&#039;ondëk Hwëch&#039;in Government
REFRESH-INTERVAL;VALUE=DURATION:PT1H
X-Robots-Tag:noindex
X-PUBLISHED-TTL:PT1H
BEGIN:VTIMEZONE
TZID:America/Whitehorse
BEGIN:STANDARD
TZOFFSETFROM:-0700
TZOFFSETTO:-0700
TZNAME:MST
DTSTART:20240101T000000
END:STANDARD
END:VTIMEZONE
BEGIN:VEVENT
DTSTART;TZID=America/Whitehorse:20250405T080000
DTEND;TZID=America/Whitehorse:20250405T170000
DTSTAMP:20260420T085121
CREATED:20250317T215242Z
LAST-MODIFIED:20260206T075347Z
UID:10001668-1743840000-1743872400@www.trondek.ca
SUMMARY:Tr'ondëk Hwëch'in General Assembly
DESCRIPTION:Drin hǫzǫ Citizens!\n\n\nThe 2025 Tr’ondëk Hwëch’in General Assembly will be held Saturday\, April 5 – Sunday\, April 6 at Äłät Nëhëjël (TH Hall).\n\n\nBreakfast will be served at 8:00 am and a feast will follow the Assembly proceedings at 5:00 pm on Saturday.\nCitizens are encouraged to attend in person or via zoom.\nZoom link: https://zoom.us/j/93588527948…\n\n\n\nThere will be door prizes available for those attending!\n\n\nFor childcare and local rides\, contact events@trondek.ca\nor call (867) 993-3175\n\n\nWe look forward to seeing you!
URL:https://www.trondek.ca/event/trondek-hwechin-general-assembly/2025-04-05/
LOCATION:Äłät Nëhëjël\, 1242 Front Street\, Dawson City\, YT\, Y0B1G0\, Canada
CATEGORIES:Dawson Office
ATTACH;FMTTYPE=image/png:https://www.trondek.ca/wp-content/uploads/2025/03/2025-Spring-GA-Ads-Facebook-Post.png
END:VEVENT
END:VCALENDAR